BEGIN:VCALENDAR
VERSION:2.0
PRODID:-//Richard Bland College - ECPv6.15.20//NONSGML v1.0//EN
CALSCALE:GREGORIAN
METHOD:PUBLISH
X-WR-CALNAME:Richard Bland College
X-ORIGINAL-URL:https://www.rbc.edu
X-WR-CALDESC:Events for Richard Bland College
REFRESH-INTERVAL;VALUE=DURATION:PT1H
X-Robots-Tag:noindex
X-PUBLISHED-TTL:PT1H
BEGIN:VTIMEZONE
TZID:America/New_York
BEGIN:DAYLIGHT
TZOFFSETFROM:-0500
TZOFFSETTO:-0400
TZNAME:EDT
DTSTART:20240310T070000
END:DAYLIGHT
BEGIN:STANDARD
TZOFFSETFROM:-0400
TZOFFSETTO:-0500
TZNAME:EST
DTSTART:20241103T060000
END:STANDARD
BEGIN:DAYLIGHT
TZOFFSETFROM:-0500
TZOFFSETTO:-0400
TZNAME:EDT
DTSTART:20250309T070000
END:DAYLIGHT
BEGIN:STANDARD
TZOFFSETFROM:-0400
TZOFFSETTO:-0500
TZNAME:EST
DTSTART:20251102T060000
END:STANDARD
BEGIN:DAYLIGHT
TZOFFSETFROM:-0500
TZOFFSETTO:-0400
TZNAME:EDT
DTSTART:20260308T070000
END:DAYLIGHT
BEGIN:STANDARD
TZOFFSETFROM:-0400
TZOFFSETTO:-0500
TZNAME:EST
DTSTART:20261101T060000
END:STANDARD
BEGIN:DAYLIGHT
TZOFFSETFROM:-0500
TZOFFSETTO:-0400
TZNAME:EDT
DTSTART:20270314T070000
END:DAYLIGHT
BEGIN:STANDARD
TZOFFSETFROM:-0400
TZOFFSETTO:-0500
TZNAME:EST
DTSTART:20271107T060000
END:STANDARD
END:VTIMEZONE
BEGIN:VEVENT
DTSTART;VALUE=DATE:20250904
DTEND;VALUE=DATE:20260517
DTSTAMP:20260423T070456
CREATED:20250904T203602Z
LAST-MODIFIED:20250904T203602Z
UID:10000272-1756944000-1778975999@www.rbc.edu
SUMMARY:RBC Talent Accelerator Program Services
DESCRIPTION:The RBC TAPS intiative equips students with the skills\, mentorship and hands-on experiences needed to excel in today’s competitive workforce. Click below to fill out an internship interest survey.
URL:https://www.rbc.edu/campus-events-calendar/rbc-talent-accelerator-program-services/
ATTACH;FMTTYPE=image/png:https://www.rbc.edu/wp-content/uploads/2025/09/RBC-TAPS-1-1920x1080-1.png
END:VEVENT
BEGIN:VEVENT
DTSTART;TZID=America/New_York:20251204T153000
DTEND;TZID=America/New_York:20251204T170000
DTSTAMP:20260423T070456
CREATED:20251125T151308Z
LAST-MODIFIED:20251125T151308Z
UID:10000281-1764862200-1764867600@www.rbc.edu
SUMMARY:New York Spring Break 2026
DESCRIPTION:Get ready for an unforgettable adventure! Richard Bland College’s Experiential Learning Experience is hosting an interest meeting for the Spring Break 2026 trip to New York City\, happening March 16–19. Join us on Thursday\, December 4th at 3:30 PM in the AIC (2nd floor) to learn how you can be part of this exciting travel experience. \nDiscover all the amazing opportunities planned for the trip—from Times Square accommodations and a Broadway show to visits to Rockefeller Center and the Statue of Liberty. Whether you’re passionate about city exploration\, culture\, or simply ready to make new memories\, this trip has something for everyone. \nCome to the meeting to get details on requirements\, the application process\, and what to expect. Don’t miss your chance to explore the Big Apple with fellow students!
URL:https://www.rbc.edu/campus-events-calendar/new-york-spring-break-2026/
LOCATION:Academic Innovation Center (AIC)
CATEGORIES:Campus
ATTACH;FMTTYPE=image/png:https://www.rbc.edu/wp-content/uploads/2025/11/Pink-Dark-Green-Simple-New-York-City-Light-Tour-and-Travel-Flyer.png
END:VEVENT
END:VCALENDAR