BEGIN:VCALENDAR
VERSION:2.0
PRODID:-//Richard Bland College - ECPv6.15.20//NONSGML v1.0//EN
CALSCALE:GREGORIAN
METHOD:PUBLISH
X-ORIGINAL-URL:https://www.rbc.edu
X-WR-CALDESC:Events for Richard Bland College
REFRESH-INTERVAL;VALUE=DURATION:PT1H
X-Robots-Tag:noindex
X-PUBLISHED-TTL:PT1H
BEGIN:VTIMEZONE
TZID:America/New_York
BEGIN:DAYLIGHT
TZOFFSETFROM:-0500
TZOFFSETTO:-0400
TZNAME:EDT
DTSTART:20240310T070000
END:DAYLIGHT
BEGIN:STANDARD
TZOFFSETFROM:-0400
TZOFFSETTO:-0500
TZNAME:EST
DTSTART:20241103T060000
END:STANDARD
BEGIN:DAYLIGHT
TZOFFSETFROM:-0500
TZOFFSETTO:-0400
TZNAME:EDT
DTSTART:20250309T070000
END:DAYLIGHT
BEGIN:STANDARD
TZOFFSETFROM:-0400
TZOFFSETTO:-0500
TZNAME:EST
DTSTART:20251102T060000
END:STANDARD
BEGIN:DAYLIGHT
TZOFFSETFROM:-0500
TZOFFSETTO:-0400
TZNAME:EDT
DTSTART:20260308T070000
END:DAYLIGHT
BEGIN:STANDARD
TZOFFSETFROM:-0400
TZOFFSETTO:-0500
TZNAME:EST
DTSTART:20261101T060000
END:STANDARD
BEGIN:DAYLIGHT
TZOFFSETFROM:-0500
TZOFFSETTO:-0400
TZNAME:EDT
DTSTART:20270314T070000
END:DAYLIGHT
BEGIN:STANDARD
TZOFFSETFROM:-0400
TZOFFSETTO:-0500
TZNAME:EST
DTSTART:20271107T060000
END:STANDARD
END:VTIMEZONE
BEGIN:VEVENT
DTSTART;VALUE=DATE:20250904
DTEND;VALUE=DATE:20260517
DTSTAMP:20260422T180751
CREATED:20250904T203602Z
LAST-MODIFIED:20250904T203602Z
UID:10000272-1756944000-1778975999@www.rbc.edu
SUMMARY:RBC Talent Accelerator Program Services
DESCRIPTION:The RBC TAPS intiative equips students with the skills\, mentorship and hands-on experiences needed to excel in today’s competitive workforce. Click below to fill out an internship interest survey.
URL:https://www.rbc.edu/campus-events-calendar/rbc-talent-accelerator-program-services/
ATTACH;FMTTYPE=image/png:https://www.rbc.edu/wp-content/uploads/2025/09/RBC-TAPS-1-1920x1080-1.png
END:VEVENT
BEGIN:VEVENT
DTSTART;TZID=America/New_York:20260221T100000
DTEND;TZID=America/New_York:20260221T120000
DTSTAMP:20260422T180751
CREATED:20260209T203609Z
LAST-MODIFIED:20260209T203609Z
UID:10000299-1771668000-1771675200@www.rbc.edu
SUMMARY:Softball Game: Harford Community College vs. Richard Bland College
DESCRIPTION:Come support our Softball team as they take on Harford Community College at 10 a.m. at the RBC Softball field!
URL:https://www.rbc.edu/campus-events-calendar/softball-game-harford-community-college-vs-richard-bland-college-2/
LOCATION:Softball Field
ATTACH;FMTTYPE=image/jpeg:https://www.rbc.edu/wp-content/uploads/2026/01/RBC-Softball.jpg
END:VEVENT
BEGIN:VEVENT
DTSTART;TZID=America/New_York:20260221T130000
DTEND;TZID=America/New_York:20260221T150000
DTSTAMP:20260422T180751
CREATED:20260209T203847Z
LAST-MODIFIED:20260209T203847Z
UID:10000300-1771678800-1771686000@www.rbc.edu
SUMMARY:Baseball Game: Pitt Community College vs. Richard Bland College
DESCRIPTION:Come support our Baseball team as they take on Pitt Community College at 1 p.m. at the Petersburg Sports Complex!
URL:https://www.rbc.edu/campus-events-calendar/baseball-game-pitt-community-college-vs-richard-bland-college/
LOCATION:Petersburg Sports Complex\, 100 Ballpark Rd.\, Petersburg\, VA\, 23805\, United States
ATTACH;FMTTYPE=image/jpeg:https://www.rbc.edu/wp-content/uploads/2026/01/Brunswick_Release.jpg
END:VEVENT
BEGIN:VEVENT
DTSTART;TZID=America/New_York:20260221T160000
DTEND;TZID=America/New_York:20260221T180000
DTSTAMP:20260422T180751
CREATED:20260209T204304Z
LAST-MODIFIED:20260209T204304Z
UID:10000301-1771689600-1771696800@www.rbc.edu
SUMMARY:Baseball Game: Pitt Community College vs. Richard Bland College
DESCRIPTION:Come support our Baseball team as they take on Pitt Community College at 4 p.m. at the Petersburg Sports Complex!
URL:https://www.rbc.edu/campus-events-calendar/baseball-game-pitt-community-college-vs-richard-bland-college-2/
LOCATION:Petersburg Sports Complex\, 100 Ballpark Rd.\, Petersburg\, VA\, 23805\, United States
ATTACH;FMTTYPE=image/jpeg:https://www.rbc.edu/wp-content/uploads/2026/01/Brunswick_Release.jpg
END:VEVENT
BEGIN:VEVENT
DTSTART;TZID=America/New_York:20260221T160000
DTEND;TZID=America/New_York:20260221T180000
DTSTAMP:20260422T180751
CREATED:20260209T204428Z
LAST-MODIFIED:20260209T204428Z
UID:10000302-1771689600-1771696800@www.rbc.edu
SUMMARY:Softball Game: Howard Community College vs. Richard Bland College
DESCRIPTION:Come support our Softball team as they take on Howard Community College at 4 p.m. at the RBC Softball field!
URL:https://www.rbc.edu/campus-events-calendar/softball-game-howard-community-college-vs-richard-bland-college-2/
LOCATION:Softball Field
ATTACH;FMTTYPE=image/jpeg:https://www.rbc.edu/wp-content/uploads/2026/01/RBC-Softball.jpg
END:VEVENT
BEGIN:VEVENT
DTSTART;TZID=America/New_York:20260221T170000
DTEND;TZID=America/New_York:20260221T190000
DTSTAMP:20260422T180751
CREATED:20260209T204602Z
LAST-MODIFIED:20260209T204602Z
UID:10000303-1771693200-1771700400@www.rbc.edu
SUMMARY:Men’s Basketball Game: Davidson-Davie Community College vs. Richard Bland College
DESCRIPTION:Come support our Men’s Basketball team as they take on Davidson-Davie Community College at 5 p.m. in the Statesmen Gym!
URL:https://www.rbc.edu/campus-events-calendar/mens-basketball-game-davidson-davie-community-college-vs-richard-bland-college/
LOCATION:Statesmen Gym
ATTACH;FMTTYPE=image/jpeg:https://www.rbc.edu/wp-content/uploads/2026/01/Mens-Bball-1.jpg
END:VEVENT
END:VCALENDAR