BEGIN:VCALENDAR
VERSION:2.0
PRODID:-//Richard Bland College - ECPv6.15.20//NONSGML v1.0//EN
CALSCALE:GREGORIAN
METHOD:PUBLISH
X-ORIGINAL-URL:https://www.rbc.edu
X-WR-CALDESC:Events for Richard Bland College
REFRESH-INTERVAL;VALUE=DURATION:PT1H
X-Robots-Tag:noindex
X-PUBLISHED-TTL:PT1H
BEGIN:VTIMEZONE
TZID:America/New_York
BEGIN:DAYLIGHT
TZOFFSETFROM:-0500
TZOFFSETTO:-0400
TZNAME:EDT
DTSTART:20240310T070000
END:DAYLIGHT
BEGIN:STANDARD
TZOFFSETFROM:-0400
TZOFFSETTO:-0500
TZNAME:EST
DTSTART:20241103T060000
END:STANDARD
BEGIN:DAYLIGHT
TZOFFSETFROM:-0500
TZOFFSETTO:-0400
TZNAME:EDT
DTSTART:20250309T070000
END:DAYLIGHT
BEGIN:STANDARD
TZOFFSETFROM:-0400
TZOFFSETTO:-0500
TZNAME:EST
DTSTART:20251102T060000
END:STANDARD
BEGIN:DAYLIGHT
TZOFFSETFROM:-0500
TZOFFSETTO:-0400
TZNAME:EDT
DTSTART:20260308T070000
END:DAYLIGHT
BEGIN:STANDARD
TZOFFSETFROM:-0400
TZOFFSETTO:-0500
TZNAME:EST
DTSTART:20261101T060000
END:STANDARD
END:VTIMEZONE
BEGIN:VEVENT
DTSTART;TZID=America/New_York:20251003T100000
DTEND;TZID=America/New_York:20251003T140000
DTSTAMP:20260424T121422
CREATED:20250925T195637Z
LAST-MODIFIED:20250925T195637Z
UID:10000277-1759485600-1759500000@www.rbc.edu
SUMMARY:2nd Annual Crater Regional Job Fair
DESCRIPTION:The 2nd Annual Crater Regional Job Fair\, hosted by Virginia Career Works – Crater Region and held at Richard Bland College’s Academic Innovation Center\, will take place on Friday\, October 3\, 2025\, from 10:00 AM to 2:00 PM. Open to students and all job seekers from the community\, this event brings together employers from across the region who are ready to hire. Attendees can explore career paths\, meet recruiters face-to-face\, and interview on the spot—making it a valuable opportunity whether you’re seeking your first job\, a career change\, or future career growth.
URL:https://www.rbc.edu/campus-events-calendar/2nd-annual-crater-regional-job-fair/
LOCATION:Academic Innovation Center
CATEGORIES:Campus
ATTACH;FMTTYPE=image/jpeg:https://www.rbc.edu/wp-content/uploads/2025/09/JobFairLogo20131-scaled.jpg
END:VEVENT
END:VCALENDAR